BEGIN:VCALENDAR
VERSION:2.0
PRODID:-//wp-events-plugin.com//7.2.3.1//EN
TZID:Europe/Copenhagen
X-WR-TIMEZONE:Europe/Copenhagen
BEGIN:VEVENT
UID:29@stoftest.org
DTSTART;TZID=Europe/Copenhagen:20260505T170000
DTEND;TZID=Europe/Copenhagen:20260505T190000
DTSTAMP:20260420T111432Z
URL:https://stoftest.org/events/stoftest-05-05-26/
SUMMARY:Stoftest 05/05/26
DESCRIPTION:///English below///\nVi kan teste de fleste piller og det meste
  pulver. Vi tester for aktivt stof og gør vores bedste på at finde evt. 
 opblandingsmidler. Alle stoffer kan også blive testet for fentanyl. Anony
 mt og gratis! (Ved ankomst\, ring venligst på ved Antidote Danmark).\n\nM
 edbring kun den mængde som skal testes (1/4 af en teske er nok)\, da alt 
 indleveret stof destrueres efter test.\n\nDer kan forekomme ventetid. Maks
  tre test pr. person - ønskes flere tests vil man blive bedt om at gå om
  bag køen.\n\nTest forgår på 1. sal som tilgås ved trapper. Der er des
 værre ingen elevator.\n\n///English///\n\nWe can test most pills and powd
 ers. We test for the active ingredient and do our best to identify any cut
 ting agents. All substances can be tested for fentanyl. Anonymous and free
  of charge. (At arrival\, use the bell at Antidote Danmark).\nBring only t
 he amount needed for testing (1/4 of a teaspoon is enough). Everything tha
 t is delivered for test will get destroyed after testing.\nPlease note tha
 t waiting times may occur. Maximum of three test pr. person - if you want 
 to test more than three substances you'll have to wait in line again.\n\nT
 esting takes place on the 2nd floor which is reached by stairs. There are 
 unfortunately no elevator.
LOCATION:Antidote Danmark\, Onkel Dannys Plads 1\, 1. sal\, Vesterbro\, 171
 1\, Denmark
X-APPLE-STRUCTURED-LOCATION;VALUE=URI;X-ADDRESS=Onkel Dannys Plads 1\, 1. s
 al\, Vesterbro\, 1711\, Denmark;X-APPLE-RADIUS=100;X-TITLE=Antidote Danmar
 k:geo:0,0
END:VEVENT
BEGIN:VTIMEZONE
TZID:Europe/Copenhagen
X-LIC-LOCATION:Europe/Copenhagen
BEGIN:DAYLIGHT
DTSTART:20260329T030000
TZOFFSETFROM:+0100
TZOFFSETTO:+0200
TZNAME:CEST
END:DAYLIGHT
END:VTIMEZONE
END:VCALENDAR